BEGIN:VCALENDAR
VERSION:2.0
PRODID:-//Heart Source Meditation - ECPv6.15.20//NONSGML v1.0//EN
CALSCALE:GREGORIAN
METHOD:PUBLISH
X-WR-CALNAME:Heart Source Meditation
X-ORIGINAL-URL:https://heartsourcemeditation.com
X-WR-CALDESC:Events for Heart Source Meditation
REFRESH-INTERVAL;VALUE=DURATION:PT1H
X-Robots-Tag:noindex
X-PUBLISHED-TTL:PT1H
BEGIN:VTIMEZONE
TZID:America/Los_Angeles
BEGIN:DAYLIGHT
TZOFFSETFROM:-0800
TZOFFSETTO:-0700
TZNAME:PDT
DTSTART:20240310T100000
END:DAYLIGHT
BEGIN:STANDARD
TZOFFSETFROM:-0700
TZOFFSETTO:-0800
TZNAME:PST
DTSTART:20241103T090000
END:STANDARD
BEGIN:DAYLIGHT
TZOFFSETFROM:-0800
TZOFFSETTO:-0700
TZNAME:PDT
DTSTART:20250309T100000
END:DAYLIGHT
BEGIN:STANDARD
TZOFFSETFROM:-0700
TZOFFSETTO:-0800
TZNAME:PST
DTSTART:20251102T090000
END:STANDARD
BEGIN:DAYLIGHT
TZOFFSETFROM:-0800
TZOFFSETTO:-0700
TZNAME:PDT
DTSTART:20260308T100000
END:DAYLIGHT
BEGIN:STANDARD
TZOFFSETFROM:-0700
TZOFFSETTO:-0800
TZNAME:PST
DTSTART:20261101T090000
END:STANDARD
END:VTIMEZONE
BEGIN:VEVENT
DTSTART;TZID=America/Los_Angeles:20251023T160000
DTEND;TZID=America/Los_Angeles:20251027T110000
DTSTAMP:20260419T132459
CREATED:20250630T233237Z
LAST-MODIFIED:20250630T233732Z
UID:10000013-1761235200-1761562800@heartsourcemeditation.com
SUMMARY:California Redwoods Retreat
DESCRIPTION:We’ll make our base at the Historic Requa Inn. Located on land traditionally inhabited by the Yurok people\, the Inn sits humbly at the spectacular confluence of the Klamath River and the Pacific Ocean\, and in the heart of a series of redwood parks that have been declared both an international biosphere and world heritage site. We’ll experience the healing and deepening of HeartSource Subtle Energy Meditation\, divine guidance\, and movement amid the natural landscape of redwood forests and coastal trails. Workshop Fee: $900 Room and Board: TBD
URL:https://heartsourcemeditation.com/event1/california-redwoods-retreat/
CATEGORIES:Retreat
ATTACH;FMTTYPE=image/jpeg:https://heartsourcemeditation.com/wp-content/uploads/2025/06/IMG_2729-scaled.jpeg
ORGANIZER;CN="Meg":MAILTO:meg@chisinmeditation.com
END:VEVENT
END:VCALENDAR