BEGIN:VCALENDAR
VERSION:2.0
PRODID:-//Heart Source Meditation - ECPv6.15.20//NONSGML v1.0//EN
CALSCALE:GREGORIAN
METHOD:PUBLISH
X-ORIGINAL-URL:https://heartsourcemeditation.com
X-WR-CALDESC:Events for Heart Source Meditation
REFRESH-INTERVAL;VALUE=DURATION:PT1H
X-Robots-Tag:noindex
X-PUBLISHED-TTL:PT1H
BEGIN:VTIMEZONE
TZID:America/Los_Angeles
BEGIN:DAYLIGHT
TZOFFSETFROM:-0800
TZOFFSETTO:-0700
TZNAME:PDT
DTSTART:20250309T100000
END:DAYLIGHT
BEGIN:STANDARD
TZOFFSETFROM:-0700
TZOFFSETTO:-0800
TZNAME:PST
DTSTART:20251102T090000
END:STANDARD
BEGIN:DAYLIGHT
TZOFFSETFROM:-0800
TZOFFSETTO:-0700
TZNAME:PDT
DTSTART:20260308T100000
END:DAYLIGHT
BEGIN:STANDARD
TZOFFSETFROM:-0700
TZOFFSETTO:-0800
TZNAME:PST
DTSTART:20261101T090000
END:STANDARD
BEGIN:DAYLIGHT
TZOFFSETFROM:-0800
TZOFFSETTO:-0700
TZNAME:PDT
DTSTART:20270314T100000
END:DAYLIGHT
BEGIN:STANDARD
TZOFFSETFROM:-0700
TZOFFSETTO:-0800
TZNAME:PST
DTSTART:20271107T090000
END:STANDARD
END:VTIMEZONE
BEGIN:VEVENT
DTSTART;TZID=America/Los_Angeles:20260103T060000
DTEND;TZID=America/Los_Angeles:20260103T070000
DTSTAMP:20260421T073603
CREATED:20251231T094105Z
LAST-MODIFIED:20251231T094609Z
UID:10000017-1767420000-1767423600@heartsourcemeditation.com
SUMMARY:Full Wolf Moon Subtle Energy Meditation with Meg
DESCRIPTION:Aligning ourselves with the energy of the Full Wolf Supermoon for one hour and 10 minutes of meditation\, subtle energy intuitively guided meditation\, movement both spontaneous and in form.
URL:https://heartsourcemeditation.com/event1/full-wolf-moon-subtle-energy-meditation-with-meg/
LOCATION:Via Zoom
CATEGORIES:Moon Zoom
ATTACH;FMTTYPE=image/png:https://heartsourcemeditation.com/wp-content/uploads/2025/12/Untitled-design.png
ORGANIZER;CN="Meg":MAILTO:meg@chisinmeditation.com
END:VEVENT
BEGIN:VEVENT
DTSTART;TZID=America/Los_Angeles:20260103T073000
DTEND;TZID=America/Los_Angeles:20260103T083000
DTSTAMP:20260421T073603
CREATED:20250530T081516Z
LAST-MODIFIED:20251231T103809Z
UID:10000012-1767425400-1767429000@heartsourcemeditation.com
SUMMARY:Full Wolf Moon Meditation and Blessing with Kwan Yin
DESCRIPTION:Capitalizing on the energy of the full moon\, engage in group meditation\, guidance and blessing with Kwan Yin as channeled by Meg McLaughlin. Via Zoom\, suggested love offering: $20. \nMake Love Offering Here \nJoin Zoom Session Here
URL:https://heartsourcemeditation.com/event1/full-strawberry-moon-meditation-and-blessing-with-kwan-yin/
LOCATION:Via Zoom
CATEGORIES:Moon Zoom
ATTACH;FMTTYPE=image/jpeg:https://heartsourcemeditation.com/wp-content/uploads/2025/05/IMG_3453.psd--e1768206113944.jpg
END:VEVENT
END:VCALENDAR