BEGIN:VCALENDAR
VERSION:2.0
PRODID:-//Heart Source Meditation - ECPv6.15.20//NONSGML v1.0//EN
CALSCALE:GREGORIAN
METHOD:PUBLISH
X-WR-CALNAME:Heart Source Meditation
X-ORIGINAL-URL:https://heartsourcemeditation.com
X-WR-CALDESC:Events for Heart Source Meditation
REFRESH-INTERVAL;VALUE=DURATION:PT1H
X-Robots-Tag:noindex
X-PUBLISHED-TTL:PT1H
BEGIN:VTIMEZONE
TZID:America/Los_Angeles
BEGIN:DAYLIGHT
TZOFFSETFROM:-0800
TZOFFSETTO:-0700
TZNAME:PDT
DTSTART:20250309T100000
END:DAYLIGHT
BEGIN:STANDARD
TZOFFSETFROM:-0700
TZOFFSETTO:-0800
TZNAME:PST
DTSTART:20251102T090000
END:STANDARD
BEGIN:DAYLIGHT
TZOFFSETFROM:-0800
TZOFFSETTO:-0700
TZNAME:PDT
DTSTART:20260308T100000
END:DAYLIGHT
BEGIN:STANDARD
TZOFFSETFROM:-0700
TZOFFSETTO:-0800
TZNAME:PST
DTSTART:20261101T090000
END:STANDARD
BEGIN:DAYLIGHT
TZOFFSETFROM:-0800
TZOFFSETTO:-0700
TZNAME:PDT
DTSTART:20270314T100000
END:DAYLIGHT
BEGIN:STANDARD
TZOFFSETFROM:-0700
TZOFFSETTO:-0800
TZNAME:PST
DTSTART:20271107T090000
END:STANDARD
END:VTIMEZONE
BEGIN:VEVENT
DTSTART;TZID=America/Los_Angeles:20260613T100000
DTEND;TZID=America/Los_Angeles:20260614T163000
DTSTAMP:20260421T013741
CREATED:20250430T143847Z
LAST-MODIFIED:20260112T073753Z
UID:10000010-1781344800-1781454600@heartsourcemeditation.com
SUMMARY:Los Angeles Open Meditation and Healing Workshop
DESCRIPTION:2-day intensive subtle energy meditation\, intuitive guidance\, and healing workshop. \nLearn more about 2-day workshops here.
URL:https://heartsourcemeditation.com/event1/los-angeles-open-meditation-and-healing-workshop/
CATEGORIES:Los Angeles
ATTACH;FMTTYPE=image/png:https://heartsourcemeditation.com/wp-content/uploads/2025/03/Untitled-design-3.png
END:VEVENT
END:VCALENDAR